BEGIN:VCALENDAR
VERSION:2.0
PRODID:-//Networx Academy - ECPv6.2.0.1//NONSGML v1.0//EN
CALSCALE:GREGORIAN
METHOD:PUBLISH
X-ORIGINAL-URL:https://www.kommunikationsseminar.at
X-WR-CALDESC:Events for Networx Academy
REFRESH-INTERVAL;VALUE=DURATION:PT1H
X-Robots-Tag:noindex
X-PUBLISHED-TTL:PT1H
BEGIN:VTIMEZONE
TZID:UTC
BEGIN:STANDARD
TZOFFSETFROM:+0000
TZOFFSETTO:+0000
TZNAME:UTC
DTSTART:20220101T000000
END:STANDARD
END:VTIMEZONE
BEGIN:VEVENT
DTSTART;VALUE=DATE:20221110
DTEND;VALUE=DATE:20221111
DTSTAMP:20260424T012243
CREATED:20220613T100924Z
LAST-MODIFIED:20220613T100924Z
UID:1763-1668038400-1668124799@www.kommunikationsseminar.at
SUMMARY:Evaluierungsseminar (1 Tag)
DESCRIPTION:Unser komprimiertes Seminar\, ist\, schon wie das Wort verrät\, eine inhaltlich reduzierte Fassung des Standard Seminars. Darin gibt es keine praktischen Übungen und es werden nur 5 der 10 wesentlichen Elemente behandelt. Dieses Seminar hinterlässt aber definitiv einen bleibenden Eindruck bei Ihnen\, der es Ihnen erlaubt zu entscheiden\, ob die “Vollversion” für Ihren Bedarf wirklich Sinn macht. \n  \nBei Folgebuchung eines Standard Seminars erhalten Sie auf dieses 50% Rabatt. \nJETZT ANFRAGEN\n 
URL:https://www.kommunikationsseminar.at/event/evaluierungsseminar-1-tag-2/
LOCATION:Wien
CATEGORIES:Evaluierungsseminar
ATTACH;FMTTYPE=image/jpeg:https://www.kommunikationsseminar.at/wp-content/uploads/shutterstock_1723486228-scaled-e1630616790624.jpg
END:VEVENT
END:VCALENDAR